BEGIN:VCALENDAR
VERSION:2.0
PRODID:-//VIAF 2026 - Vietnam Industrial Automation Fiesta (Triển Lãm Tự Động Hóa Công Nghiệp Việt Nam) - ECPv6.2.0//NONSGML v1.0//EN
CALSCALE:GREGORIAN
METHOD:PUBLISH
X-WR-CALNAME:VIAF 2026 - Vietnam Industrial Automation Fiesta (Triển Lãm Tự Động Hóa Công Nghiệp Việt Nam)
X-ORIGINAL-URL:https://automationfiesta.com
X-WR-CALDESC:Events for VIAF 2026 - Vietnam Industrial Automation Fiesta (Triển Lãm Tự Động Hóa Công Nghiệp Việt Nam)
REFRESH-INTERVAL;VALUE=DURATION:PT1H
X-Robots-Tag:noindex
X-PUBLISHED-TTL:PT1H
BEGIN:VTIMEZONE
TZID:UTC
BEGIN:STANDARD
TZOFFSETFROM:+0000
TZOFFSETTO:+0000
TZNAME:UTC
DTSTART:20240101T000000
END:STANDARD
END:VTIMEZONE
BEGIN:VEVENT
DTSTART;TZID=UTC:20240619T090000
DTEND;TZID=UTC:20240621T170000
DTSTAMP:20260425T045737
CREATED:20190708T013253Z
LAST-MODIFIED:20231127T062414Z
UID:371-1718787600-1718989200@automationfiesta.com
SUMMARY:VIMF 2024 - Vietnam Industrial & Manufacturing Fair 
DESCRIPTION:INTRODUCTION \nVIMF –  Vietnam Industrial & Manufacturing Fair   is an international industrial exhibition in the form of a roadmap held in the Industrial Complex and we connect supplies of machinery\, parts\, equipment\, technology and process solutions necessary for the automobile\, electronics\, machinery\, textile\, footwear\, and high-tech industries to related manufacturers.\nWe cordially would like to invite your company to participate VIMF 2024  in conjunction with Vietnam Industrial Automation Fiesta (VIAF) under  3 versions as detail as below: \n\n\n\n\nSouthern Chapter\nMiddle Chapter\nNorthern Chapter\n\n\nDate\n June 19-21\,  2024\nSep 11-13\, 2024\nNov 06-08\,  2024\n\n\nVenue\n\nWTC Binh Duong New City Expo (WTC EXPO) \nBinh Duong | Viet Nam \n\n Da Nang Exhibition and Fair Center \nDa Nang | Viet Nam\n\nKinh Bac Cultural  Center \nBac Ninh | Viet Nam \n\n\n\nProjected For \nExhibition:\n\n450 exhibiting companies \n16.000 trade & professional visitors \n\n300 exhibiting companies \n10.000 trade & professional visitors\n\n 400 exhibiting companies \n15.000 trade & professional visitors \n\n\n\n\nOMG has planned to organize a series of VIMF exhibitions at key national cities in Vietnam with strong manufacturing industries\, aims to help international & local manufacturers and suppliers to launch new products\, meet targeted buyers\, appoint agents and distributors\, generate new business delegates & visitors\, govt. authorities\, industrial associations\, international trade consulates\, etc. and establish business networks \nWith 18 successful editions to date after many years of organizatio in major cities and provinces\, VIMF has been built and become a prestigious brand with quality exhibitions\, effective connection\, ideal destinations and received high appreciation from customers\,  business communities across Asia. \nIn order to create conditions for businesses to boldly decide to participate in exhibitions more quickly and effectively\, the organizers have provided promotional packages for esteem company participation in 2024. Hopefully\, VIMF 2024 will be a strategic lever to help businesses bounce back after being heavily affected by Covid 19 to develop strongly and reach out further. For details of the promotion\, please see below: \nVIMF will be staging the specialized high profile event on technologies\, equipment\, machines & tools\, systems\, industry materials and engineering services\, for manufacturing\, metalworking and subcontracting industries. The showcase of VIMF related fields: \n\nIndustrial Machineries\, Equipment and Materials\nAutomotive Manufacturing and Contract Manufacturing\nCutting-Off\, Press and Welding\nMolding Making and Die Casting\nTool and Tooling Systems\nMachine Tool and Metal Working\nMetal and Sheet Metalworking\nHVAC\, Compressed Air and Vacuum\nRubber and Plastic Manufacturing\nProducts for the Supporting Industries\n\nVIMF 2024 will bring you practical insights into the latest strategies\, tools\, trends in machine tools and metalworking\, metrology and measuring tools\, 3D print for additive manufacturing\, sheet metalworking\, software for manufacturing\, tools and tooling systems\, contract manufacturing\, welding and coatings to achieve and maximize productivity and operational efficiency in manufacturing\, metalworking and subcontracting industries. \nThrough expert led presentation and displays\, we welcome leading industrial companies from around the world and all over Vietnam to exhibits and update technologies to the growing manufacturing\, metalworking and subcontracting industries \nHolding alongside with the high profile of these industries in the area\, Industrial Automation\, Robotics Automation\, Logistics Automation\, Material Handling\, Pumps and Valves\, Process and Packaging\, Analytical and Laboratory\, Test and Measurement\, are brought in together to the exhibition to service the manufacturing industries\, \nVIMF  SERIES  BROCHURE \n \nEXHIBITOR PROFILE \n\n\n\n• Accessories\, Parts & Components \n• Air Power & Accessories \n• Asset Management System \n• Chemicals \n• Cleaning Devices & Clean Air Systems \n• Cutting Tools & Tooling Systems \n• Die Casting Machines \n• Factory Automation \n• Fasteners Hardware\, Tools \n• Fluid Power & Systems \n• Forming & Finishing Machines \n• Instrumentation & Process Control \n• Inventory Control/Logistics Systems \n• Laser Cutting & Laser Systems \n• Logistics Automation\n• Machine Makers (Manufacturers) \n• Machine Tools \n• Material Handling \n• Metrology & Systems \n• Plastics Molding Machine \n• Polishing & Surface Finishing Machines \n• Power Transmission Equipment \n• Precision Gauges\, Indicators \n• Pr-processing Machines \n• Process Industries \n• Software & Design – Manufacturing \n• Special Purpose Machines \n• System Integrator \n• Test & Measurement \n• Vision Systems\n\n\n\n  \nVIMF is on a mission to upgrade various local recipient industries. The intention is to introduce know-how & technologies that lead to efficiency\, cost savings and increased productivity. Taking directions from the industry 4.0 phenomenon we encourage Industrial digitization of the pro-cess/production value chain. In this edition\, Special emphasis is given to showcase innovations in: Bolt-on Upgrade modules \nBolt on upgrade modules refers to: A low cost\, stage 1 method of digitizing. For example: Utilizing Industrial Internet of things technology; Equipping sensors to existing machines/production systems such that digital information can be collected\, compiled and analyzed to monitor & plan meaningful outcomes. \nACTIVITIES  \nTake place in concurrently with the exhibition\, there are  some program like Busines Making\, Conference\, Live Demo\, Robot Performances\, Buyer Zone and other trade promotion and related business supporting activities \nCONFERENCE \nTopic of conference at VIMF 2024 will talk about: \nConnected Manufacturing including IoT\, Industry 4.0\, Smart Manufacturing\, Smart City\nRobotics And Vision Systems\n3D Design And Print\nDiscussion on investment policy\, trade promotion at the exhibition \nBUSINESS MAKING \nBusiness Making is a customized suite of integrated matching services dedicated to help exhibitors to identify and screen potential customers and business partners in Vietnam \nBusiness Making offers to exhibitors exclusive opportunities to connect with top level buyers from all over the world\, as well as for trade buyers to find suppliers at the 3-day exhibition by previewing target suppliers/buyers’ profile and per-scheduling onsite meetings efficiently. With this service\, you will get the chance to extend your professional network and seek out new business alliances and suppliers from around the world. \nLIVE DEMO STAGE \nShowcasing product innovations from leading industry players and provide perfect opportunities. It will bring lively the practical experiences of modern machineries\, technologies in a single place or at exhibitor’s booths during 3 exhibition day. \nROBOT PERFORMANCE \nConfirmed exhibitors under RAV-Robotic Automation Vietnam area will have the opportunity to bring the most modern robots to the robot demonstration area to introduce and promote according to the pre-scheduled from the organizers. This is a very meaningful activity at the exhibition to attract visitors and promote the development of the robotics industry in Vietnam. \nBUYER ZONE \nVIMF will reserve an area that brings together groups of BUYERS from Manufacturing\, Contractors\, Subcontracting\, Engineering Services\, End users\, Machine Makers\, System Integrators\, Industrial Projects\, and Industrial Equipment Suppliers so that businesses have the opportunity to directly meet\, catch up trends\, enhance competitiveness in the market…
URL:https://automationfiesta.com/event/vimf-2024-vietnam-industrial-manufacturing-fair/
LOCATION:WTC BINH DUONG NEW CITY EXPO (WTC EXPO)\, A19\, Hoa Phu ward\, Binh Duong\, Binh Duong\, 700000\, Viet Nam
CATEGORIES:Exhibitions
ATTACH;FMTTYPE=image/jpeg:https://automationfiesta.com/wp-content/uploads/2023/11/VIMF-3MIEN-01-1.jpg
ORGANIZER;CN="OMG%20EVENTS%20MANAGEMENT%20CO.%2C%20LTD":MAILTO:register@omg-expo.com
END:VEVENT
END:VCALENDAR